BEGIN:VCALENDAR
VERSION:2.0
PRODID:-//Partners of Scott County Watersheds - ECPv6.15.20//NONSGML v1.0//EN
CALSCALE:GREGORIAN
METHOD:PUBLISH
X-WR-CALNAME:Partners of Scott County Watersheds
X-ORIGINAL-URL:https://partnersofscottcountywatersheds.org
X-WR-CALDESC:Events for Partners of Scott County Watersheds
REFRESH-INTERVAL;VALUE=DURATION:PT1H
X-Robots-Tag:noindex
X-PUBLISHED-TTL:PT1H
BEGIN:VTIMEZONE
TZID:America/Chicago
BEGIN:DAYLIGHT
TZOFFSETFROM:-0600
TZOFFSETTO:-0500
TZNAME:CDT
DTSTART:20230312T080000
END:DAYLIGHT
BEGIN:STANDARD
TZOFFSETFROM:-0500
TZOFFSETTO:-0600
TZNAME:CST
DTSTART:20231105T070000
END:STANDARD
BEGIN:DAYLIGHT
TZOFFSETFROM:-0600
TZOFFSETTO:-0500
TZNAME:CDT
DTSTART:20240310T080000
END:DAYLIGHT
BEGIN:STANDARD
TZOFFSETFROM:-0500
TZOFFSETTO:-0600
TZNAME:CST
DTSTART:20241103T070000
END:STANDARD
BEGIN:DAYLIGHT
TZOFFSETFROM:-0600
TZOFFSETTO:-0500
TZNAME:CDT
DTSTART:20250309T080000
END:DAYLIGHT
BEGIN:STANDARD
TZOFFSETFROM:-0500
TZOFFSETTO:-0600
TZNAME:CST
DTSTART:20251102T070000
END:STANDARD
END:VTIMEZONE
BEGIN:VEVENT
DTSTART;TZID=America/Chicago:20240120T110000
DTEND;TZID=America/Chicago:20240120T173000
DTSTAMP:20260422T175412
CREATED:20240112T181759Z
LAST-MODIFIED:20240112T181924Z
UID:4454-1705748400-1705771800@partnersofscottcountywatersheds.org
SUMMARY:PSCW at ProgressPalooza
DESCRIPTION:ProgressPalooza is a day for people doing good things in our community to gather under one “big tent”\, to connect with each other\, and to find other people who are interested in getting involved. \nJoin us at the Village Theatre in Davenport for a day of celebrating and connecting with people doing art\, performance\, activism\, and other good works in and around the Quad Cities! \nPartners of Scott County Watersheds will have a booth to showcase watershed activism in Scott County. We will be there from 11am – 5:30pm during the ‘Learn\, Create\, Connect’ portion of the festival. \nSuggested $5 donation. \nFind out more information\, other organizations\, and activities at: https://www.progresspalooza.com/ \n 
URL:https://partnersofscottcountywatersheds.org/event/pscw-at-progresspalooza/
LOCATION:The Village Theatre\, 2113 E 11th St\, Davenport\, IA\, 52803\, United States
CATEGORIES:Community Events
END:VEVENT
END:VCALENDAR