BEGIN:VCALENDAR
VERSION:2.0
PRODID:-//Partners of Scott County Watersheds - ECPv6.15.20//NONSGML v1.0//EN
CALSCALE:GREGORIAN
METHOD:PUBLISH
X-WR-CALNAME:Partners of Scott County Watersheds
X-ORIGINAL-URL:https://partnersofscottcountywatersheds.org
X-WR-CALDESC:Events for Partners of Scott County Watersheds
REFRESH-INTERVAL;VALUE=DURATION:PT1H
X-Robots-Tag:noindex
X-PUBLISHED-TTL:PT1H
BEGIN:VTIMEZONE
TZID:America/Chicago
BEGIN:DAYLIGHT
TZOFFSETFROM:-0600
TZOFFSETTO:-0500
TZNAME:CDT
DTSTART:20240310T080000
END:DAYLIGHT
BEGIN:STANDARD
TZOFFSETFROM:-0500
TZOFFSETTO:-0600
TZNAME:CST
DTSTART:20241103T070000
END:STANDARD
BEGIN:DAYLIGHT
TZOFFSETFROM:-0600
TZOFFSETTO:-0500
TZNAME:CDT
DTSTART:20250309T080000
END:DAYLIGHT
BEGIN:STANDARD
TZOFFSETFROM:-0500
TZOFFSETTO:-0600
TZNAME:CST
DTSTART:20251102T070000
END:STANDARD
BEGIN:DAYLIGHT
TZOFFSETFROM:-0600
TZOFFSETTO:-0500
TZNAME:CDT
DTSTART:20260308T080000
END:DAYLIGHT
BEGIN:STANDARD
TZOFFSETFROM:-0500
TZOFFSETTO:-0600
TZNAME:CST
DTSTART:20261101T070000
END:STANDARD
END:VTIMEZONE
BEGIN:VEVENT
DTSTART;VALUE=DATE:20251202
DTEND;VALUE=DATE:20251203
DTSTAMP:20260421T134710
CREATED:20251120T194654Z
LAST-MODIFIED:20251120T194655Z
UID:4885-1764633600-1764719999@partnersofscottcountywatersheds.org
SUMMARY:#GivingTuesday - 2025
DESCRIPTION:Learn more on what PSCW is doing and how to give this Holiday season. \n#GivingTuesday – 2025 🤝
URL:https://partnersofscottcountywatersheds.org/event/givingtuesday-2025/
CATEGORIES:Community Events
END:VEVENT
END:VCALENDAR