BEGIN:VCALENDAR
VERSION:2.0
PRODID:-//Partners of Scott County Watersheds - ECPv6.15.20//NONSGML v1.0//EN
CALSCALE:GREGORIAN
METHOD:PUBLISH
X-ORIGINAL-URL:https://partnersofscottcountywatersheds.org
X-WR-CALDESC:Events for Partners of Scott County Watersheds
REFRESH-INTERVAL;VALUE=DURATION:PT1H
X-Robots-Tag:noindex
X-PUBLISHED-TTL:PT1H
BEGIN:VTIMEZONE
TZID:America/Chicago
BEGIN:DAYLIGHT
TZOFFSETFROM:-0600
TZOFFSETTO:-0500
TZNAME:CDT
DTSTART:20220313T080000
END:DAYLIGHT
BEGIN:STANDARD
TZOFFSETFROM:-0500
TZOFFSETTO:-0600
TZNAME:CST
DTSTART:20221106T070000
END:STANDARD
BEGIN:DAYLIGHT
TZOFFSETFROM:-0600
TZOFFSETTO:-0500
TZNAME:CDT
DTSTART:20230312T080000
END:DAYLIGHT
BEGIN:STANDARD
TZOFFSETFROM:-0500
TZOFFSETTO:-0600
TZNAME:CST
DTSTART:20231105T070000
END:STANDARD
BEGIN:DAYLIGHT
TZOFFSETFROM:-0600
TZOFFSETTO:-0500
TZNAME:CDT
DTSTART:20240310T080000
END:DAYLIGHT
BEGIN:STANDARD
TZOFFSETFROM:-0500
TZOFFSETTO:-0600
TZNAME:CST
DTSTART:20241103T070000
END:STANDARD
END:VTIMEZONE
BEGIN:VEVENT
DTSTART;TZID=America/Chicago:20231121T120000
DTEND;TZID=America/Chicago:20231121T130000
DTSTAMP:20260422T224223
CREATED:20230112T200841Z
LAST-MODIFIED:20231121T152645Z
UID:3663-1700568000-1700571600@partnersofscottcountywatersheds.org
SUMMARY:November 2023 Conservation Quarterly
DESCRIPTION:Register for the 2023 Fall Conservation Quarterly!\n\nJoin us on Tuesday\, November 21st from 12-1pm for the Partners of Scott County Watersheds’ yearly summary. Listen over the lunch hour as the PSCW Executive Board shares the results of the 2023 Snapshot events\, reviews the year’s successes\, and discusses plans and projects for next year.\n\nYou can attend the presentation either in-person or via Zoom!\n\nRegister at https://bit.ly/PSCWFallForum2023\n\n\n\nZoom link:\nhttps://eicc-edu.zoom.us/j/3798732789?pwd=STM5Kyt6TTAwNGhlOFZNeEFOTEVUZz09\n\n \n\nMeeting ID: 379 873 2789 – PSWD: PSCW2023
URL:https://partnersofscottcountywatersheds.org/event/conservation-quarterly-4/
LOCATION:Eastern Avenue Library\, 6000 Eastern Avenue\, Davenport\, IA\, 52807\, United States
CATEGORIES:Forums
ATTACH;FMTTYPE=image/png:https://partnersofscottcountywatersheds.org/wp-content/uploads/2023/01/PSCW-Conservation-Quarterly-11.21.23.png
END:VEVENT
END:VCALENDAR