BEGIN:VCALENDAR
VERSION:2.0
PRODID:-//Partners of Scott County Watersheds - ECPv6.15.20//NONSGML v1.0//EN
CALSCALE:GREGORIAN
METHOD:PUBLISH
X-ORIGINAL-URL:https://partnersofscottcountywatersheds.org
X-WR-CALDESC:Events for Partners of Scott County Watersheds
REFRESH-INTERVAL;VALUE=DURATION:PT1H
X-Robots-Tag:noindex
X-PUBLISHED-TTL:PT1H
BEGIN:VTIMEZONE
TZID:America/Chicago
BEGIN:DAYLIGHT
TZOFFSETFROM:-0600
TZOFFSETTO:-0500
TZNAME:CDT
DTSTART:20240310T080000
END:DAYLIGHT
BEGIN:STANDARD
TZOFFSETFROM:-0500
TZOFFSETTO:-0600
TZNAME:CST
DTSTART:20241103T070000
END:STANDARD
BEGIN:DAYLIGHT
TZOFFSETFROM:-0600
TZOFFSETTO:-0500
TZNAME:CDT
DTSTART:20250309T080000
END:DAYLIGHT
BEGIN:STANDARD
TZOFFSETFROM:-0500
TZOFFSETTO:-0600
TZNAME:CST
DTSTART:20251102T070000
END:STANDARD
BEGIN:DAYLIGHT
TZOFFSETFROM:-0600
TZOFFSETTO:-0500
TZNAME:CDT
DTSTART:20260308T080000
END:DAYLIGHT
BEGIN:STANDARD
TZOFFSETFROM:-0500
TZOFFSETTO:-0600
TZNAME:CST
DTSTART:20261101T070000
END:STANDARD
END:VTIMEZONE
BEGIN:VEVENT
DTSTART;TZID=America/Chicago:20250506T080000
DTEND;TZID=America/Chicago:20250506T120000
DTSTAMP:20260422T035302
CREATED:20250311T160312Z
LAST-MODIFIED:20250313T195901Z
UID:4749-1746518400-1746532800@partnersofscottcountywatersheds.org
SUMMARY:2025 Spring Snapshot
DESCRIPTION:Join us for the 2025 Spring Snapshot on Tuesday\, May 6th! For this volunteer water quality monitoring event\, we will be gathering physical and chemical data. This is a great chance for people of all ages to participate in citizen science and help improve the health of our local streams. \nLearn more and register at https://partnersofscottcountywatersheds.org/2025/03/2025-spring-snapshot-water-quality-event%f0%9f%a7%aa/
URL:https://partnersofscottcountywatersheds.org/event/2025-fall-snapshot/
LOCATION:Davenport Public Works\, 1200 E 46th Street\, Davenport\, IA\, 52807\, United States
CATEGORIES:Snapshot
END:VEVENT
END:VCALENDAR