BEGIN:VCALENDAR
VERSION:2.0
PRODID:-//Partners of Scott County Watersheds - ECPv6.15.20//NONSGML v1.0//EN
CALSCALE:GREGORIAN
METHOD:PUBLISH
X-WR-CALNAME:Partners of Scott County Watersheds
X-ORIGINAL-URL:https://partnersofscottcountywatersheds.org
X-WR-CALDESC:Events for Partners of Scott County Watersheds
REFRESH-INTERVAL;VALUE=DURATION:PT1H
X-Robots-Tag:noindex
X-PUBLISHED-TTL:PT1H
BEGIN:VTIMEZONE
TZID:America/Chicago
BEGIN:DAYLIGHT
TZOFFSETFROM:-0600
TZOFFSETTO:-0500
TZNAME:CDT
DTSTART:20230312T080000
END:DAYLIGHT
BEGIN:STANDARD
TZOFFSETFROM:-0500
TZOFFSETTO:-0600
TZNAME:CST
DTSTART:20231105T070000
END:STANDARD
BEGIN:DAYLIGHT
TZOFFSETFROM:-0600
TZOFFSETTO:-0500
TZNAME:CDT
DTSTART:20240310T080000
END:DAYLIGHT
BEGIN:STANDARD
TZOFFSETFROM:-0500
TZOFFSETTO:-0600
TZNAME:CST
DTSTART:20241103T070000
END:STANDARD
BEGIN:DAYLIGHT
TZOFFSETFROM:-0600
TZOFFSETTO:-0500
TZNAME:CDT
DTSTART:20250309T080000
END:DAYLIGHT
BEGIN:STANDARD
TZOFFSETFROM:-0500
TZOFFSETTO:-0600
TZNAME:CST
DTSTART:20251102T070000
END:STANDARD
END:VTIMEZONE
BEGIN:VEVENT
DTSTART;TZID=America/Chicago:20241102T100000
DTEND;TZID=America/Chicago:20241102T120000
DTSTAMP:20260422T144710
CREATED:20241023T192411Z
LAST-MODIFIED:20241023T192411Z
UID:4652-1730541600-1730548800@partnersofscottcountywatersheds.org
SUMMARY:November Invasive Species Removal
DESCRIPTION:Join the City of Davenport and Partners of Scott County Watersheds as we remove Honeysuckle from Sunderbruch Park (4675 Telegraph Rd Davenport\, IA 52804). \nRegister here to volunteer: https://xstreamcleanup.org/event/invasive-species-removal-sunderbruch-november-2nd-2024
URL:https://partnersofscottcountywatersheds.org/event/november-invasive-species-removal/
LOCATION:Sunderbruch Park\, 4675 Telegraph Rd\, Davenport\, IA\, 52804\, United States
CATEGORIES:Cleanups,Community Events
END:VEVENT
END:VCALENDAR