BEGIN:VCALENDAR
VERSION:2.0
PRODID:-//Partners of Scott County Watersheds - ECPv6.15.20//NONSGML v1.0//EN
CALSCALE:GREGORIAN
METHOD:PUBLISH
X-ORIGINAL-URL:https://partnersofscottcountywatersheds.org
X-WR-CALDESC:Events for Partners of Scott County Watersheds
REFRESH-INTERVAL;VALUE=DURATION:PT1H
X-Robots-Tag:noindex
X-PUBLISHED-TTL:PT1H
BEGIN:VTIMEZONE
TZID:America/Chicago
BEGIN:DAYLIGHT
TZOFFSETFROM:-0600
TZOFFSETTO:-0500
TZNAME:CDT
DTSTART:20230312T080000
END:DAYLIGHT
BEGIN:STANDARD
TZOFFSETFROM:-0500
TZOFFSETTO:-0600
TZNAME:CST
DTSTART:20231105T070000
END:STANDARD
BEGIN:DAYLIGHT
TZOFFSETFROM:-0600
TZOFFSETTO:-0500
TZNAME:CDT
DTSTART:20240310T080000
END:DAYLIGHT
BEGIN:STANDARD
TZOFFSETFROM:-0500
TZOFFSETTO:-0600
TZNAME:CST
DTSTART:20241103T070000
END:STANDARD
BEGIN:DAYLIGHT
TZOFFSETFROM:-0600
TZOFFSETTO:-0500
TZNAME:CDT
DTSTART:20250309T080000
END:DAYLIGHT
BEGIN:STANDARD
TZOFFSETFROM:-0500
TZOFFSETTO:-0600
TZNAME:CST
DTSTART:20251102T070000
END:STANDARD
END:VTIMEZONE
BEGIN:VEVENT
DTSTART;TZID=America/Chicago:20240820T120000
DTEND;TZID=America/Chicago:20240820T130000
DTSTAMP:20260422T201619
CREATED:20240719T171316Z
LAST-MODIFIED:20240719T171316Z
UID:4588-1724155200-1724158800@partnersofscottcountywatersheds.org
SUMMARY:August 2024 Conservation Quarterly
DESCRIPTION:Want to Understand Agriculture Conservation? \nJoin Partners of Scott County Watersheds and speaker Ann Staudt\, Conservation Outreach Specialist\, Iowa Learning Farms and Iowa State University Extension and Outreach\, over the lunch hour on August 20th\, 12m – 1pm to hear her share about both in-field and edge-of-field conservation practices and how crucial they are! \nAttend in person at the Davenport Public Library – Eastern Ave. Branch – Room B or tune in via Zoom. Lunch is provided for in-person attendees with a $5 suggested donation. \nRegister here!
URL:https://partnersofscottcountywatersheds.org/event/august-2024-conservation-quarterly/
LOCATION:Eastern Avenue Library\, 6000 Eastern Avenue\, Davenport\, IA\, 52807\, United States
CATEGORIES:Forums
END:VEVENT
END:VCALENDAR