BEGIN:VCALENDAR
VERSION:2.0
PRODID:-//Partners of Scott County Watersheds - ECPv6.15.20//NONSGML v1.0//EN
CALSCALE:GREGORIAN
METHOD:PUBLISH
X-ORIGINAL-URL:https://partnersofscottcountywatersheds.org
X-WR-CALDESC:Events for Partners of Scott County Watersheds
REFRESH-INTERVAL;VALUE=DURATION:PT1H
X-Robots-Tag:noindex
X-PUBLISHED-TTL:PT1H
BEGIN:VTIMEZONE
TZID:America/Chicago
BEGIN:DAYLIGHT
TZOFFSETFROM:-0600
TZOFFSETTO:-0500
TZNAME:CDT
DTSTART:20230312T080000
END:DAYLIGHT
BEGIN:STANDARD
TZOFFSETFROM:-0500
TZOFFSETTO:-0600
TZNAME:CST
DTSTART:20231105T070000
END:STANDARD
BEGIN:DAYLIGHT
TZOFFSETFROM:-0600
TZOFFSETTO:-0500
TZNAME:CDT
DTSTART:20240310T080000
END:DAYLIGHT
BEGIN:STANDARD
TZOFFSETFROM:-0500
TZOFFSETTO:-0600
TZNAME:CST
DTSTART:20241103T070000
END:STANDARD
BEGIN:DAYLIGHT
TZOFFSETFROM:-0600
TZOFFSETTO:-0500
TZNAME:CDT
DTSTART:20250309T080000
END:DAYLIGHT
BEGIN:STANDARD
TZOFFSETFROM:-0500
TZOFFSETTO:-0600
TZNAME:CST
DTSTART:20251102T070000
END:STANDARD
END:VTIMEZONE
BEGIN:VEVENT
DTSTART;TZID=America/Chicago:20240713T080000
DTEND;TZID=America/Chicago:20240713T120000
DTSTAMP:20260422T223153
CREATED:20240515T155830Z
LAST-MODIFIED:20240515T155830Z
UID:4524-1720857600-1720872000@partnersofscottcountywatersheds.org
SUMMARY:2024 Summer Snapshot
DESCRIPTION:Join us for the 2024 Summer Snapshot! For this volunteer water quality monitoring event\, we will gather both chemical and biological data. This is a great chance for people of all ages to participate in citizen science and help improve the health of our local streams. \nLearn more and register today at https://xstreamcleanup.org/event/summer-snapshot-volunteer-water-quality-monitoring-event-july-13-2024 
URL:https://partnersofscottcountywatersheds.org/event/2024-summer-snapshot/
LOCATION:Nahant Marsh Education Center\, 4220 Wapello Ave\, Davenport\, IA\, 52802\, United States
CATEGORIES:Snapshot
END:VEVENT
END:VCALENDAR