BEGIN:VCALENDAR
VERSION:2.0
PRODID:-//Partners of Scott County Watersheds - ECPv6.15.20//NONSGML v1.0//EN
CALSCALE:GREGORIAN
METHOD:PUBLISH
X-WR-CALNAME:Partners of Scott County Watersheds
X-ORIGINAL-URL:https://partnersofscottcountywatersheds.org
X-WR-CALDESC:Events for Partners of Scott County Watersheds
REFRESH-INTERVAL;VALUE=DURATION:PT1H
X-Robots-Tag:noindex
X-PUBLISHED-TTL:PT1H
BEGIN:VTIMEZONE
TZID:America/Chicago
BEGIN:DAYLIGHT
TZOFFSETFROM:-0600
TZOFFSETTO:-0500
TZNAME:CDT
DTSTART:20240310T080000
END:DAYLIGHT
BEGIN:STANDARD
TZOFFSETFROM:-0500
TZOFFSETTO:-0600
TZNAME:CST
DTSTART:20241103T070000
END:STANDARD
BEGIN:DAYLIGHT
TZOFFSETFROM:-0600
TZOFFSETTO:-0500
TZNAME:CDT
DTSTART:20250309T080000
END:DAYLIGHT
BEGIN:STANDARD
TZOFFSETFROM:-0500
TZOFFSETTO:-0600
TZNAME:CST
DTSTART:20251102T070000
END:STANDARD
BEGIN:DAYLIGHT
TZOFFSETFROM:-0600
TZOFFSETTO:-0500
TZNAME:CDT
DTSTART:20260308T080000
END:DAYLIGHT
BEGIN:STANDARD
TZOFFSETFROM:-0500
TZOFFSETTO:-0600
TZNAME:CST
DTSTART:20261101T070000
END:STANDARD
END:VTIMEZONE
BEGIN:VEVENT
DTSTART;TZID=America/Chicago:20251018T090000
DTEND;TZID=America/Chicago:20251018T110000
DTSTAMP:20260421T161616
CREATED:20251008T184617Z
LAST-MODIFIED:20251008T184617Z
UID:4849-1760778000-1760785200@partnersofscottcountywatersheds.org
SUMMARY:Pheasant Creek Spooky Cleanup | October 18th\, 2025
DESCRIPTION:Join Partners of Scott County Watersheds and the City of Davenport in cleaning up Pheasant Creek and Jersey Farms Park this spooky season! \nFind more information and learn how to register here: https://partnersofscottcountywatersheds.org/2025/10/pheasant-creek-spooky-cleanup/
URL:https://partnersofscottcountywatersheds.org/event/pheasant-creek-spooky-cleanup-october-18th-2025/
LOCATION:Jersey Farms Park\, 2930 E 65th St\, Davenport\, IA\, 52807\, United States
CATEGORIES:Cleanups
END:VEVENT
END:VCALENDAR