BEGIN:VCALENDAR
VERSION:2.0
PRODID:-//Partners of Scott County Watersheds - ECPv6.15.20//NONSGML v1.0//EN
CALSCALE:GREGORIAN
METHOD:PUBLISH
X-WR-CALNAME:Partners of Scott County Watersheds
X-ORIGINAL-URL:https://partnersofscottcountywatersheds.org
X-WR-CALDESC:Events for Partners of Scott County Watersheds
REFRESH-INTERVAL;VALUE=DURATION:PT1H
X-Robots-Tag:noindex
X-PUBLISHED-TTL:PT1H
BEGIN:VTIMEZONE
TZID:America/Chicago
BEGIN:DAYLIGHT
TZOFFSETFROM:-0600
TZOFFSETTO:-0500
TZNAME:CDT
DTSTART:20240310T080000
END:DAYLIGHT
BEGIN:STANDARD
TZOFFSETFROM:-0500
TZOFFSETTO:-0600
TZNAME:CST
DTSTART:20241103T070000
END:STANDARD
BEGIN:DAYLIGHT
TZOFFSETFROM:-0600
TZOFFSETTO:-0500
TZNAME:CDT
DTSTART:20250309T080000
END:DAYLIGHT
BEGIN:STANDARD
TZOFFSETFROM:-0500
TZOFFSETTO:-0600
TZNAME:CST
DTSTART:20251102T070000
END:STANDARD
BEGIN:DAYLIGHT
TZOFFSETFROM:-0600
TZOFFSETTO:-0500
TZNAME:CDT
DTSTART:20260308T080000
END:DAYLIGHT
BEGIN:STANDARD
TZOFFSETFROM:-0500
TZOFFSETTO:-0600
TZNAME:CST
DTSTART:20261101T070000
END:STANDARD
END:VTIMEZONE
BEGIN:VEVENT
DTSTART;TZID=America/Chicago:20250816T090000
DTEND;TZID=America/Chicago:20250816T110000
DTSTAMP:20260421T200647
CREATED:20250716T194220Z
LAST-MODIFIED:20250716T194233Z
UID:4769-1755334800-1755342000@partnersofscottcountywatersheds.org
SUMMARY:Duck Creek Cleanup | August 16th\, 2025
DESCRIPTION:Join the Bettendorf Conservation Committee and Partners of Scott County Watersheds in cleaning up both the creek and the park area surrounding the creek. \nLearn more and register: https://xstreamcleanup.org/event/duck-creek-cleanup-august-16th-2025
URL:https://partnersofscottcountywatersheds.org/event/duck-creek-cleanup-august-16th-2025/
LOCATION:Middle Park Lagoon\, 2098 Parkway Drive\, Bettendorf\, IA\, 52722\, United States
CATEGORIES:Community Events
ORGANIZER;CN="Betttendorf Conservation Committee":MAILTO:crrregger@gmail.com
END:VEVENT
END:VCALENDAR