BEGIN:VCALENDAR
VERSION:2.0
PRODID:-//Partners of Scott County Watersheds - ECPv6.15.20//NONSGML v1.0//EN
CALSCALE:GREGORIAN
METHOD:PUBLISH
X-WR-CALNAME:Partners of Scott County Watersheds
X-ORIGINAL-URL:https://partnersofscottcountywatersheds.org
X-WR-CALDESC:Events for Partners of Scott County Watersheds
REFRESH-INTERVAL;VALUE=DURATION:PT1H
X-Robots-Tag:noindex
X-PUBLISHED-TTL:PT1H
BEGIN:VTIMEZONE
TZID:America/Chicago
BEGIN:DAYLIGHT
TZOFFSETFROM:-0600
TZOFFSETTO:-0500
TZNAME:CDT
DTSTART:20240310T080000
END:DAYLIGHT
BEGIN:STANDARD
TZOFFSETFROM:-0500
TZOFFSETTO:-0600
TZNAME:CST
DTSTART:20241103T070000
END:STANDARD
BEGIN:DAYLIGHT
TZOFFSETFROM:-0600
TZOFFSETTO:-0500
TZNAME:CDT
DTSTART:20250309T080000
END:DAYLIGHT
BEGIN:STANDARD
TZOFFSETFROM:-0500
TZOFFSETTO:-0600
TZNAME:CST
DTSTART:20251102T070000
END:STANDARD
BEGIN:DAYLIGHT
TZOFFSETFROM:-0600
TZOFFSETTO:-0500
TZNAME:CDT
DTSTART:20260308T080000
END:DAYLIGHT
BEGIN:STANDARD
TZOFFSETFROM:-0500
TZOFFSETTO:-0600
TZNAME:CST
DTSTART:20261101T070000
END:STANDARD
END:VTIMEZONE
BEGIN:VEVENT
DTSTART;TZID=America/Chicago:20250712T080000
DTEND;TZID=America/Chicago:20250712T120000
DTSTAMP:20260421T215914
CREATED:20250618T191202Z
LAST-MODIFIED:20250618T191202Z
UID:4761-1752307200-1752321600@partnersofscottcountywatersheds.org
SUMMARY:2025 Summer Snapshot
DESCRIPTION:Join us for the 2025 Summer Snapshot on Saturday\, July 12th! For this volunteer water quality monitoring event\, we will be gathering physical and chemical data. This is a great chance for people of all ages to participate in citizen science and help improve the health of our local streams. \nLearn more and register at https://partnersofscottcountywatersheds.org/2025/06/summer-2025-snapshot-volunteer-event%f0%9f%a7%aa/
URL:https://partnersofscottcountywatersheds.org/event/2025-summer-snapshot/
LOCATION:Eldridge Community Center\, 400 S 16th Ave\, Eldridge\, IA\, 52748\, United States
CATEGORIES:Snapshot
END:VEVENT
END:VCALENDAR