BEGIN:VCALENDAR
VERSION:2.0
PRODID:-//Partners of Scott County Watersheds - ECPv6.15.20//NONSGML v1.0//EN
CALSCALE:GREGORIAN
METHOD:PUBLISH
X-ORIGINAL-URL:https://partnersofscottcountywatersheds.org
X-WR-CALDESC:Events for Partners of Scott County Watersheds
REFRESH-INTERVAL;VALUE=DURATION:PT1H
X-Robots-Tag:noindex
X-PUBLISHED-TTL:PT1H
BEGIN:VTIMEZONE
TZID:America/Chicago
BEGIN:DAYLIGHT
TZOFFSETFROM:-0600
TZOFFSETTO:-0500
TZNAME:CDT
DTSTART:20250309T080000
END:DAYLIGHT
BEGIN:STANDARD
TZOFFSETFROM:-0500
TZOFFSETTO:-0600
TZNAME:CST
DTSTART:20251102T070000
END:STANDARD
BEGIN:DAYLIGHT
TZOFFSETFROM:-0600
TZOFFSETTO:-0500
TZNAME:CDT
DTSTART:20260308T080000
END:DAYLIGHT
BEGIN:STANDARD
TZOFFSETFROM:-0500
TZOFFSETTO:-0600
TZNAME:CST
DTSTART:20261101T070000
END:STANDARD
BEGIN:DAYLIGHT
TZOFFSETFROM:-0600
TZOFFSETTO:-0500
TZNAME:CDT
DTSTART:20270314T080000
END:DAYLIGHT
BEGIN:STANDARD
TZOFFSETFROM:-0500
TZOFFSETTO:-0600
TZNAME:CST
DTSTART:20271107T070000
END:STANDARD
END:VTIMEZONE
BEGIN:VEVENT
DTSTART;TZID=America/Chicago:20260228T110000
DTEND;TZID=America/Chicago:20260228T130000
DTSTAMP:20260420T162020
CREATED:20260123T192805Z
LAST-MODIFIED:20260123T192919Z
UID:4925-1772276400-1772283600@partnersofscottcountywatersheds.org
SUMMARY:Teen Environmental Summit 2026🌎
DESCRIPTION:Local Roots. Global Change.\nJoin Quad Cities area libraries for a teen-centered morning of environmentalism and conservation. Learn how YOU can be part of the change with local nonprofit\, government\, and conservation organizations. Stop by for information on volunteering\, jobs\, and other ways you can get involved. \nPartners of Scott County Watersheds will be hosting a booth\, showcasing volunteer opportunities and projects within the Quad Cities. \nHeld at the Bettendorf Public Library.
URL:https://partnersofscottcountywatersheds.org/event/teen-environmental-summit-2026/
CATEGORIES:Community Events,Partner Events
END:VEVENT
END:VCALENDAR