BEGIN:VCALENDAR
VERSION:2.0
PRODID:-//Partners of Scott County Watersheds - ECPv6.15.20//NONSGML v1.0//EN
CALSCALE:GREGORIAN
METHOD:PUBLISH
X-WR-CALNAME:Partners of Scott County Watersheds
X-ORIGINAL-URL:https://partnersofscottcountywatersheds.org
X-WR-CALDESC:Events for Partners of Scott County Watersheds
REFRESH-INTERVAL;VALUE=DURATION:PT1H
X-Robots-Tag:noindex
X-PUBLISHED-TTL:PT1H
BEGIN:VTIMEZONE
TZID:America/Chicago
BEGIN:DAYLIGHT
TZOFFSETFROM:-0600
TZOFFSETTO:-0500
TZNAME:CDT
DTSTART:20250309T080000
END:DAYLIGHT
BEGIN:STANDARD
TZOFFSETFROM:-0500
TZOFFSETTO:-0600
TZNAME:CST
DTSTART:20251102T070000
END:STANDARD
BEGIN:DAYLIGHT
TZOFFSETFROM:-0600
TZOFFSETTO:-0500
TZNAME:CDT
DTSTART:20260308T080000
END:DAYLIGHT
BEGIN:STANDARD
TZOFFSETFROM:-0500
TZOFFSETTO:-0600
TZNAME:CST
DTSTART:20261101T070000
END:STANDARD
BEGIN:DAYLIGHT
TZOFFSETFROM:-0600
TZOFFSETTO:-0500
TZNAME:CDT
DTSTART:20270314T080000
END:DAYLIGHT
BEGIN:STANDARD
TZOFFSETFROM:-0500
TZOFFSETTO:-0600
TZNAME:CST
DTSTART:20271107T070000
END:STANDARD
END:VTIMEZONE
BEGIN:VEVENT
DTSTART;TZID=America/Chicago:20260321T090000
DTEND;TZID=America/Chicago:20260321T110000
DTSTAMP:20260421T210043
CREATED:20251014T203638Z
LAST-MODIFIED:20260122T175309Z
UID:4871-1774083600-1774090800@partnersofscottcountywatersheds.org
SUMMARY:Sunset Park Cleanup 🌅
DESCRIPTION:Join Partners of Scott County Watersheds and Scouting America Troop 243 in cleaning up Sunset Park on March 21st from 9am – 11am. \nLearn more and register here: https://partnersofscottcountywatersheds.org/2026/01/sunset-park-cleanup-%f0%9f%8c%85/]
URL:https://partnersofscottcountywatersheds.org/event/big-fall-2025-cleanup-%f0%9f%8d%82/
LOCATION:Sunset Park Rock Island\, Sunset Road - 18th & 31st Avenues\, Rock Island\, IL\, 61201
CATEGORIES:Cleanups,Community Events
END:VEVENT
END:VCALENDAR