BEGIN:VCALENDAR
VERSION:2.0
PRODID:-//Partners of Scott County Watersheds - ECPv6.15.20//NONSGML v1.0//EN
CALSCALE:GREGORIAN
METHOD:PUBLISH
X-ORIGINAL-URL:https://partnersofscottcountywatersheds.org
X-WR-CALDESC:Events for Partners of Scott County Watersheds
REFRESH-INTERVAL;VALUE=DURATION:PT1H
X-Robots-Tag:noindex
X-PUBLISHED-TTL:PT1H
BEGIN:VTIMEZONE
TZID:America/Chicago
BEGIN:DAYLIGHT
TZOFFSETFROM:-0600
TZOFFSETTO:-0500
TZNAME:CDT
DTSTART:20230312T080000
END:DAYLIGHT
BEGIN:STANDARD
TZOFFSETFROM:-0500
TZOFFSETTO:-0600
TZNAME:CST
DTSTART:20231105T070000
END:STANDARD
BEGIN:DAYLIGHT
TZOFFSETFROM:-0600
TZOFFSETTO:-0500
TZNAME:CDT
DTSTART:20240310T080000
END:DAYLIGHT
BEGIN:STANDARD
TZOFFSETFROM:-0500
TZOFFSETTO:-0600
TZNAME:CST
DTSTART:20241103T070000
END:STANDARD
BEGIN:DAYLIGHT
TZOFFSETFROM:-0600
TZOFFSETTO:-0500
TZNAME:CDT
DTSTART:20250309T080000
END:DAYLIGHT
BEGIN:STANDARD
TZOFFSETFROM:-0500
TZOFFSETTO:-0600
TZNAME:CST
DTSTART:20251102T070000
END:STANDARD
END:VTIMEZONE
BEGIN:VEVENT
DTSTART;TZID=America/Chicago:20240406T090000
DTEND;TZID=America/Chicago:20240406T110000
DTSTAMP:20260421T072704
CREATED:20240318T154856Z
LAST-MODIFIED:20240318T154856Z
UID:4475-1712394000-1712401200@partnersofscottcountywatersheds.org
SUMMARY:Earth Month Kick-Off Cleanup
DESCRIPTION:Kick-off Earth Month with Partners of Scott County and the City of Davenport for a cleanup in Davenport\, off of Welcome Way & 37th Street! We will be picking up trash in the corner lot across the street from Smart Hyundai of Davenport\, near Candlelight Creek. Please meet at the Smart Hyundai of Davenport lower lot (behind Smart Hyundia\, taking a small road – look for PSCW sign and reference map below).\n\nWe will provide bags\, tongs\, gloves\, and high-vis vests. Please wear weather-appropriate footwear and clothing for climbing through weeds and brush.
URL:https://partnersofscottcountywatersheds.org/event/earth-month-kick-off-cleanup/
CATEGORIES:Cleanups,Community Events,Partner Events
ATTACH;FMTTYPE=image/png:https://partnersofscottcountywatersheds.org/wp-content/uploads/2024/03/Earth-Month-Kick-Off-2024.png
END:VEVENT
END:VCALENDAR